BEGIN:VCALENDAR
VERSION:2.0
PRODID:-//roundtowerslusk.ie//NONSGML v1.0//EN
CALSCALE:GREGORIAN
METHOD:PUBLISH
X-WR-CALNAME:roundtowerslusk.ie
X-ORIGINAL-URL:http://www.roundtowerslusk.ie
X-WR-CALDESC:Events for roundtowerslusk.ie
X-WR-TIMEZONE:Europe/Dublin
BEGIN:VEVENT
DTSTART;VALUE=DATE-TIME:20141009T210000
DTEND;VALUE=DATE-TIME:20141009T223000
DTSTAMP:20171025T134730
CREATED:20140919T141834
LAST-MODIFIED:20140919T141834
UID:6310@http://www.roundtowerslusk.ie
SUMMARY:Annual General Meeting
DESCRIPTION:Our Annual General Meeting takes place in the hall tonight at 9pm.
LOCATION:Thomas Ashe Park
URL:http://www.roundtowerslusk.ie/event/annual-general-meeting-3/
END:VEVENT
END:VCALENDAR