BEGIN:VCALENDAR
VERSION:2.0
PRODID:-//roundtowerslusk.ie//NONSGML v1.0//EN
CALSCALE:GREGORIAN
METHOD:PUBLISH
X-WR-CALNAME:roundtowerslusk.ie
X-ORIGINAL-URL:http://www.roundtowerslusk.ie
X-WR-CALDESC:Events for roundtowerslusk.ie
X-WR-TIMEZONE:Europe/Dublin
BEGIN:VEVENT
DTSTART;VALUE=DATE-TIME:20141011T203000
DTEND;VALUE=DATE-TIME:20141011T203000
DTSTAMP:20171025T134711
CREATED:20140919T142041
LAST-MODIFIED:20140919T142041
UID:6199@http://www.roundtowerslusk.ie
SUMMARY:Barn Dance 
DESCRIPTION:There will be a Barn Dance in the hall tonight\, with Stage 2 providing the music - all in aid of the Molly McNally Miracle Trust.  All welcome.
LOCATION:Thomas Ashe Park
URL:http://www.roundtowerslusk.ie/event/barn-dance/
END:VEVENT
END:VCALENDAR