BEGIN:VCALENDAR
VERSION:2.0
PRODID:-//roundtowerslusk.ie//NONSGML v1.0//EN
CALSCALE:GREGORIAN
METHOD:PUBLISH
X-WR-CALNAME:roundtowerslusk.ie
X-ORIGINAL-URL:http://www.roundtowerslusk.ie
X-WR-CALDESC:Events for roundtowerslusk.ie
X-WR-TIMEZONE:Europe/Dublin
BEGIN:VEVENT
DTSTART;VALUE=DATE-TIME:20140922T183000
DTEND;VALUE=DATE-TIME:20140922T193000
DTSTAMP:20171025T134802
CREATED:20140922T104824
LAST-MODIFIED:20140922T110746
UID:6333@http://www.roundtowerslusk.ie
SUMMARY:U10 Hurlers challenge game @ 6.30
DESCRIPTION:Our U10 Hurlers play a challenge game tonight at 6.30 vs Bettystown
LOCATION:Thomas Ashe Park
URL:http://www.roundtowerslusk.ie/event/u10-hurlers-challenge-game-6-30/
END:VEVENT
END:VCALENDAR